BEGIN:VCALENDAR
VERSION:2.0
PRODID:-//www.landbouwagenda.nl//Agenda functie
X-WR-CALNAME:Boerenavond rundvee: &quot;Klauwen: op goede voet!&quot;
CALSCALE:GREGORIAN
BEGIN:VTIMEZONE
TZID:Europe/Amsterdam
TZURL:http://tzurl.org/zoneinfo-outlook/Europe/Amsterdam
X-LIC-LOCATION:Europe/Amsterdam
BEGIN:DAYLIGHT
TZOFFSETFROM:+0100
TZOFFSETTO:+0200
TZNAME:CEST
DTSTART:19700329T020000
RRULE:FREQ=YEARLY;BYMONTH=3;BYDAY=-1SU
END:DAYLIGHT
BEGIN:STANDARD
TZOFFSETFROM:+0200
TZOFFSETTO:+0100
TZNAME:CET
DTSTART:19701025T030000
RRULE:FREQ=YEARLY;BYMONTH=10;BYDAY=-1SU
END:STANDARD
END:VTIMEZONE
BEGIN:VEVENT
DTSTAMP:20260422T162426Z
UID:69e8da1a83366
DTSTART;VALUE=DATE:20240307
DTEND;VALUE=DATE:20240307
SUMMARY:Boerenavond rundvee: &quot;Klauwen: op goede voet!&quot;
URL;VALUE=URI:https://www.landbouwagenda.nl/evenement/7150-boerenavond-rundvee-klauwen-op-goede-voet/
DESCRIPTION:Boerenavond georganiseerd door Gelre Dierenartsen: "Klauwen: op goede voet!"\n\n  Het programma: \n\n19:45 uur             Ontvangst met koffie en thee\n20:00 uur             “Klauwen: Op goede voet”.\n+/- 21:30 uur        Discussie, hapje en een drankje
LOCATION:Erve Kots Eimersweg 4 7137 HG Lievelde
END:VEVENT
END:VCALENDAR