BEGIN:VCALENDAR
VERSION:2.0
PRODID:-//www.landbouwagenda.nl//Agenda functie
X-WR-CALNAME:Sectordagen 2024 regio Noord - Nederland blijft Pluimveeland!
CALSCALE:GREGORIAN
BEGIN:VTIMEZONE
TZID:Europe/Amsterdam
TZURL:http://tzurl.org/zoneinfo-outlook/Europe/Amsterdam
X-LIC-LOCATION:Europe/Amsterdam
BEGIN:DAYLIGHT
TZOFFSETFROM:+0100
TZOFFSETTO:+0200
TZNAME:CEST
DTSTART:19700329T020000
RRULE:FREQ=YEARLY;BYMONTH=3;BYDAY=-1SU
END:DAYLIGHT
BEGIN:STANDARD
TZOFFSETFROM:+0200
TZOFFSETTO:+0100
TZNAME:CET
DTSTART:19701025T030000
RRULE:FREQ=YEARLY;BYMONTH=10;BYDAY=-1SU
END:STANDARD
END:VTIMEZONE
BEGIN:VEVENT
DTSTAMP:20260424T151050Z
UID:69eb6bda16dc6
DTSTART;VALUE=DATE:20240229
DTEND;VALUE=DATE:20240229
SUMMARY:Sectordagen 2024 regio Noord - Nederland blijft Pluimveeland!
URL;VALUE=URI:https://www.landbouwagenda.nl/evenement/7214-sectordagen-2024-regio-noord-nederland-blijft-pluimveeland/
DESCRIPTION:WE NODIGEN U ALS PLUIMVEEHOUD(ST)ER, UW PARTNER, OPVOLGER EN BEDRIJFSLEIDER GRAAG UIT OM DEEL TE NEMEN A AN DE SECTORDAGEN 2024.\n\nDit event biedt u de gelegenheid om de nieuwste trends en ontwikkelingen in de\npluimveehouderij te ontdekken, uw netwerk te versterken en waardevolle (in)formele\ncontacten te leggen. Wij waarderen uw deelname en kijken uit naar uw komst.
LOCATION:Golden Tulip Ampt van Nijkerk Berencamperweg 4 3861 MC Nijkerk
END:VEVENT
END:VCALENDAR