BEGIN:VCALENDAR
VERSION:2.0
PRODID:-//www.landbouwagenda.nl//Agenda functie
X-WR-CALNAME:Tulpenroute Flevoland
CALSCALE:GREGORIAN
BEGIN:VTIMEZONE
TZID:Europe/Amsterdam
TZURL:http://tzurl.org/zoneinfo-outlook/Europe/Amsterdam
X-LIC-LOCATION:Europe/Amsterdam
BEGIN:DAYLIGHT
TZOFFSETFROM:+0100
TZOFFSETTO:+0200
TZNAME:CEST
DTSTART:19700329T020000
RRULE:FREQ=YEARLY;BYMONTH=3;BYDAY=-1SU
END:DAYLIGHT
BEGIN:STANDARD
TZOFFSETFROM:+0200
TZOFFSETTO:+0100
TZNAME:CET
DTSTART:19701025T030000
RRULE:FREQ=YEARLY;BYMONTH=10;BYDAY=-1SU
END:STANDARD
END:VTIMEZONE
BEGIN:VEVENT
DTSTAMP:20260421T120129Z
UID:69e74af9113b9
DTSTART;VALUE=DATE:20240413
DTEND;VALUE=DATE:20240505
SUMMARY:Tulpenroute Flevoland
URL;VALUE=URI:https://www.landbouwagenda.nl/evenement/7300-tulpenroute-flevoland/
DESCRIPTION:Tulpenroute Flevoland is al jarenlang een begrip in de Flevopolder. In april en mei verandert onze provincie jaarlijks in een lappendeken van kleur als de tulpenvelden in bloei komen te staan. Tulpenroute Flevoland staat garant voor mooie fiets- en autoroutes langs tal van tulpenvelden in Oostelijk en Zuidelijk Flevoland. In april en mei vult dit gebied zich met kleur als de tulpenvelden in bloei komen te staan. \n\nDe gratis fiets- en wandelroutes zijn verkrijgbaar via de website. De autoroutes zijn verkrijgbaar voor € 5,- via de app van Tulpenroute Flevoland. Lees er meer over op de website en op de pagina met veelgestelde vragen.
LOCATION:Op diverse plekken in Flevoland (omgeving Dronten/Zeewolde/Lelystad) Hoekwantweg 11 (geen bezoekadres) 8256 PS Dronten/Zeewolde/Lelystad/Biddinghuizen
END:VEVENT
END:VCALENDAR