BEGIN:VCALENDAR
VERSION:2.0
PRODID:-//www.landbouwagenda.nl//Agenda functie
X-WR-CALNAME:Kringvergadering Royal Cosun - Holland / Kop van Noord-Holland 19.30 - 22.30 uur
CALSCALE:GREGORIAN
BEGIN:VTIMEZONE
TZID:Europe/Amsterdam
TZURL:http://tzurl.org/zoneinfo-outlook/Europe/Amsterdam
X-LIC-LOCATION:Europe/Amsterdam
BEGIN:DAYLIGHT
TZOFFSETFROM:+0100
TZOFFSETTO:+0200
TZNAME:CEST
DTSTART:19700329T020000
RRULE:FREQ=YEARLY;BYMONTH=3;BYDAY=-1SU
END:DAYLIGHT
BEGIN:STANDARD
TZOFFSETFROM:+0200
TZOFFSETTO:+0100
TZNAME:CET
DTSTART:19701025T030000
RRULE:FREQ=YEARLY;BYMONTH=10;BYDAY=-1SU
END:STANDARD
END:VTIMEZONE
BEGIN:VEVENT
DTSTAMP:20260422T095856Z
UID:69e87fc09ac35
DTSTART;VALUE=DATE:20240226
DTEND;VALUE=DATE:20240226
SUMMARY:Kringvergadering Royal Cosun - Holland / Kop van Noord-Holland 19.30 - 22.30 uur
URL;VALUE=URI:https://www.landbouwagenda.nl/evenement/7319-kringvergadering-royal-cosun-holland-kop-van-noord-holland-19.30-22.30-uur/
DESCRIPTION:Ontwikkelingen binnen Cosun, bespreking voorlopige resultaten boekjaar 2023, eventuele verkiezingen, Cosun strategie en vragenrondes zijn onderwerpen die aan bod komen.
LOCATION:Hotel Wieringermeer Terpstraat 49 1771 AC Wieringerwerf
END:VEVENT
END:VCALENDAR