BEGIN:VCALENDAR
VERSION:2.0
PRODID:-//www.landbouwagenda.nl//Agenda functie
X-WR-CALNAME:Kringvergadering Royal Cosun - Flevoland / Noord-Oost Polder
CALSCALE:GREGORIAN
BEGIN:VTIMEZONE
TZID:Europe/Amsterdam
TZURL:http://tzurl.org/zoneinfo-outlook/Europe/Amsterdam
X-LIC-LOCATION:Europe/Amsterdam
BEGIN:DAYLIGHT
TZOFFSETFROM:+0100
TZOFFSETTO:+0200
TZNAME:CEST
DTSTART:19700329T020000
RRULE:FREQ=YEARLY;BYMONTH=3;BYDAY=-1SU
END:DAYLIGHT
BEGIN:STANDARD
TZOFFSETFROM:+0200
TZOFFSETTO:+0100
TZNAME:CET
DTSTART:19701025T030000
RRULE:FREQ=YEARLY;BYMONTH=10;BYDAY=-1SU
END:STANDARD
END:VTIMEZONE
BEGIN:VEVENT
DTSTAMP:20260420T054106Z
UID:69e5a052f0462
DTSTART;VALUE=DATE:20240228
DTEND;VALUE=DATE:20240228
SUMMARY:Kringvergadering Royal Cosun - Flevoland / Noord-Oost Polder
URL;VALUE=URI:https://www.landbouwagenda.nl/evenement/7325-kringvergadering-royal-cosun-flevoland-noord-oost-polder/
DESCRIPTION:Ontwikkelingen binnen Cosun, voorlopige resultaten boekjaar 2023, eventuele verkiezingen, de Cosun strategie en vragenrondes zijn onderwerpen die aan bod komen. \n19.30 - 22.30 uur
LOCATION:&#039;t Voorhuys De Deel 20 8302 CW Emmeloord
END:VEVENT
END:VCALENDAR