BEGIN:VCALENDAR
VERSION:2.0
PRODID:-//www.landbouwagenda.nl//Agenda functie
X-WR-CALNAME:Open dag Demobedrijf Akkerbouwbedrijf Meijer
CALSCALE:GREGORIAN
BEGIN:VTIMEZONE
TZID:Europe/Amsterdam
TZURL:http://tzurl.org/zoneinfo-outlook/Europe/Amsterdam
X-LIC-LOCATION:Europe/Amsterdam
BEGIN:DAYLIGHT
TZOFFSETFROM:+0100
TZOFFSETTO:+0200
TZNAME:CEST
DTSTART:19700329T020000
RRULE:FREQ=YEARLY;BYMONTH=3;BYDAY=-1SU
END:DAYLIGHT
BEGIN:STANDARD
TZOFFSETFROM:+0200
TZOFFSETTO:+0100
TZNAME:CET
DTSTART:19701025T030000
RRULE:FREQ=YEARLY;BYMONTH=10;BYDAY=-1SU
END:STANDARD
END:VTIMEZONE
BEGIN:VEVENT
DTSTAMP:20260419T204626Z
UID:69e52302ed98e
DTSTART;VALUE=DATE:20240710
DTEND;VALUE=DATE:20240710
SUMMARY:Open dag Demobedrijf Akkerbouwbedrijf Meijer
URL;VALUE=URI:https://www.landbouwagenda.nl/evenement/7563-open-dag-demobedrijf-akkerbouwbedrijf-meijer/
DESCRIPTION:Akkerbouwbedrijf Meijer is één van de demobedrijven van Profytodsd. Op deze bedrijven testen wij producten die potentie hebben op praktijkschaal. Dit gaat veelal om biostimulanten, bodemverbeteraars en bladmeststoffen. Ook ligt hier een irrigatieproef.
LOCATION:Akkerbouwbedrijf A.P. Meijer Drietorensweg 24 8307PG Ens
END:VEVENT
END:VCALENDAR