BEGIN:VCALENDAR
VERSION:2.0
PRODID:-//www.landbouwagenda.nl//Agenda functie
X-WR-CALNAME:Precision Days 2025
CALSCALE:GREGORIAN
BEGIN:VTIMEZONE
TZID:Europe/Amsterdam
TZURL:http://tzurl.org/zoneinfo-outlook/Europe/Amsterdam
X-LIC-LOCATION:Europe/Amsterdam
BEGIN:DAYLIGHT
TZOFFSETFROM:+0100
TZOFFSETTO:+0200
TZNAME:CEST
DTSTART:19700329T020000
RRULE:FREQ=YEARLY;BYMONTH=3;BYDAY=-1SU
END:DAYLIGHT
BEGIN:STANDARD
TZOFFSETFROM:+0200
TZOFFSETTO:+0100
TZNAME:CET
DTSTART:19701025T030000
RRULE:FREQ=YEARLY;BYMONTH=10;BYDAY=-1SU
END:STANDARD
END:VTIMEZONE
BEGIN:VEVENT
DTSTAMP:20260420T081141Z
UID:69e5c39dc3734
DTSTART;VALUE=DATE:20250829
DTEND;VALUE=DATE:20250830
SUMMARY:Precision Days 2025
URL;VALUE=URI:https://www.landbouwagenda.nl/evenement/7639-precision-days-2025/
DESCRIPTION:Op vrijdag 29 en zaterdag 30 augustus 2025 ben je van harte welkom op de VDBORNE Campus in Reusel voor de derde editie van de Precision Days. Twee dagen waarin de toekomst van de landbouw centraal staat. Met volop ruimte voor innovatie, ontmoeting en inspiratie.\nDe landbouw staat voor grote uitdagingen, maar ook voor innovatieve kansen. Hoe kunnen slimme technologieën, precisielandbouw en samenwerking bijdragen aan een duurzame en rendabele toekomst? Tijdens de Precision Days brengen we boeren, technologieontwikkelaars, beleidsmakers, kennisinstellingen en andere betrokkenen samen. Om te laten zien wat er al kan én waar we naartoe gaan.\nHet programma bestaat uit:\n•	Rondleiding Field of the Future\n•	Live tech-demo’s op het veld\n•	Kennissessies en workshops\n•	Inspiratie voor je eigen bedrijf of project\n•	Ontmoet de mensen achter de machines\nVan autonome robots tot dronedata en slimme sensoren: ontdek hoe technologie vandaag al werkt aan de landbouw van morgen. Ga in gesprek, stel je vragen en bouw mee aan toekomstbestendige oplossingen.\n\nToegang is gratis, wel even aanmelden!
LOCATION:VDBorne Campus Postelsedijk 15 5541 NM Reusel
END:VEVENT
END:VCALENDAR