BEGIN:VCALENDAR
VERSION:2.0
PRODID:-//www.landbouwagenda.nl//Agenda functie
X-WR-CALNAME:KUHN hooibouwdemonstratie - LMB Veldman
CALSCALE:GREGORIAN
BEGIN:VTIMEZONE
TZID:Europe/Amsterdam
TZURL:http://tzurl.org/zoneinfo-outlook/Europe/Amsterdam
X-LIC-LOCATION:Europe/Amsterdam
BEGIN:DAYLIGHT
TZOFFSETFROM:+0100
TZOFFSETTO:+0200
TZNAME:CEST
DTSTART:19700329T020000
RRULE:FREQ=YEARLY;BYMONTH=3;BYDAY=-1SU
END:DAYLIGHT
BEGIN:STANDARD
TZOFFSETFROM:+0200
TZOFFSETTO:+0100
TZNAME:CET
DTSTART:19701025T030000
RRULE:FREQ=YEARLY;BYMONTH=10;BYDAY=-1SU
END:STANDARD
END:VTIMEZONE
BEGIN:VEVENT
DTSTAMP:20260423T125334Z
UID:69e9fa2ee27c2
DTSTART;VALUE=DATE:20240716
DTEND;VALUE=DATE:20240716
SUMMARY:KUHN hooibouwdemonstratie - LMB Veldman
URL;VALUE=URI:https://www.landbouwagenda.nl/evenement/7664-kuhn-hooibouwdemonstratie-lmb-veldman/
DESCRIPTION:LMB Veldman nodigt u van harte uit op dinsdag 16 juli 2024 voor onze hooibouwdemonstratie in samenwerking met Reesink Agri. \nDeze dag zullen er meerdere hooibouwmachines uit het programma van Reesink Agri aan het werk zijn. We gaan maaien, schudden, harken en persen met diverse Kuhn machines. \nHet middagprogramma zal starten om 14:30 en het avondprogramma zal om 19:30 van start gaan. Beide programma’s hebben dezelfde invulling.
LOCATION:Melkveebedrijf Wenneger Denekamperweg 105 7661 RJ Vasse
END:VEVENT
END:VCALENDAR