BEGIN:VCALENDAR
VERSION:2.0
PRODID:-//www.landbouwagenda.nl//Agenda functie
X-WR-CALNAME:Kiek&#039;n bie de Boer op het Hogeland
CALSCALE:GREGORIAN
BEGIN:VTIMEZONE
TZID:Europe/Amsterdam
TZURL:http://tzurl.org/zoneinfo-outlook/Europe/Amsterdam
X-LIC-LOCATION:Europe/Amsterdam
BEGIN:DAYLIGHT
TZOFFSETFROM:+0100
TZOFFSETTO:+0200
TZNAME:CEST
DTSTART:19700329T020000
RRULE:FREQ=YEARLY;BYMONTH=3;BYDAY=-1SU
END:DAYLIGHT
BEGIN:STANDARD
TZOFFSETFROM:+0200
TZOFFSETTO:+0100
TZNAME:CET
DTSTART:19701025T030000
RRULE:FREQ=YEARLY;BYMONTH=10;BYDAY=-1SU
END:STANDARD
END:VTIMEZONE
BEGIN:VEVENT
DTSTAMP:20260422T174442Z
UID:69e8ecea38e49
DTSTART;VALUE=DATE:20240803
DTEND;VALUE=DATE:20240803
SUMMARY:Kiek&#039;n bie de Boer op het Hogeland
URL;VALUE=URI:https://www.landbouwagenda.nl/evenement/7691-kiekn-bie-de-boer/
DESCRIPTION:Meer dan 10 boerenbedrijven op Het Hogeland houden zaterdag 3 augustus weer een open dag.\nJe bent welkom tussen 10.00 en 17.00 uur.\nDeelnemende bedrijven en actuele informatie kun je vinden op www.kieknbiedeboer.nl. De deelnemers zijn op 3 augustus herkenbaar aan een wit bord bij de weg en een wapperende beachvlag.
LOCATION:Diverse lokaties op het Hogeland Klinkenborgerweg 7 9995 NE Kantens
END:VEVENT
END:VCALENDAR