BEGIN:VCALENDAR
VERSION:2.0
PRODID:-//www.landbouwagenda.nl//Agenda functie
X-WR-CALNAME:HZPC Telersvergadering Noord Oost Polder
CALSCALE:GREGORIAN
BEGIN:VTIMEZONE
TZID:Europe/Amsterdam
TZURL:http://tzurl.org/zoneinfo-outlook/Europe/Amsterdam
X-LIC-LOCATION:Europe/Amsterdam
BEGIN:DAYLIGHT
TZOFFSETFROM:+0100
TZOFFSETTO:+0200
TZNAME:CEST
DTSTART:19700329T020000
RRULE:FREQ=YEARLY;BYMONTH=3;BYDAY=-1SU
END:DAYLIGHT
BEGIN:STANDARD
TZOFFSETFROM:+0200
TZOFFSETTO:+0100
TZNAME:CET
DTSTART:19701025T030000
RRULE:FREQ=YEARLY;BYMONTH=10;BYDAY=-1SU
END:STANDARD
END:VTIMEZONE
BEGIN:VEVENT
DTSTAMP:20260424T160211Z
UID:69eb77e38eb33
DTSTART;VALUE=DATE:20250305
DTEND;VALUE=DATE:20250305
SUMMARY:HZPC Telersvergadering Noord Oost Polder
URL;VALUE=URI:https://www.landbouwagenda.nl/evenement/7693-hzpc-telersvergadering-noord-oost-polder/
DESCRIPTION:Deze bijeenkomst wordt georganiseerd voor uitsluitend bij HZPC aangesloten pootgoedtelers.\n\nAanvang 20:00 uur
LOCATION:Hotel van der Valk Emmeloord Hooiveld 9 8302 AE Emmeloord
END:VEVENT
END:VCALENDAR