BEGIN:VCALENDAR
VERSION:2.0
PRODID:-//www.landbouwagenda.nl//Agenda functie
X-WR-CALNAME:HZPC telersvergadering Zeeland, Zuid Holland
CALSCALE:GREGORIAN
BEGIN:VTIMEZONE
TZID:Europe/Amsterdam
TZURL:http://tzurl.org/zoneinfo-outlook/Europe/Amsterdam
X-LIC-LOCATION:Europe/Amsterdam
BEGIN:DAYLIGHT
TZOFFSETFROM:+0100
TZOFFSETTO:+0200
TZNAME:CEST
DTSTART:19700329T020000
RRULE:FREQ=YEARLY;BYMONTH=3;BYDAY=-1SU
END:DAYLIGHT
BEGIN:STANDARD
TZOFFSETFROM:+0200
TZOFFSETTO:+0100
TZNAME:CET
DTSTART:19701025T030000
RRULE:FREQ=YEARLY;BYMONTH=10;BYDAY=-1SU
END:STANDARD
END:VTIMEZONE
BEGIN:VEVENT
DTSTAMP:20260423T121719Z
UID:69e9f1af4a3a9
DTSTART;VALUE=DATE:20250310
DTEND;VALUE=DATE:20250310
SUMMARY:HZPC telersvergadering Zeeland, Zuid Holland
URL;VALUE=URI:https://www.landbouwagenda.nl/evenement/7695-hzpc-telersvergadering-zeeland-zuid-holland/
DESCRIPTION:Deze bijeenkomst wordt georganiseerd voor uitsluitend bij HZPC aangesloten pootgoedtelers.\n\nAanvang 20:00 uur
LOCATION:De Stenge Stengeplein 1 4451 LA Heinkenszand
END:VEVENT
END:VCALENDAR