BEGIN:VCALENDAR
VERSION:2.0
PRODID:-//www.landbouwagenda.nl//Agenda functie
X-WR-CALNAME:KWS Suikerbieten Demodag Schoondijke
CALSCALE:GREGORIAN
BEGIN:VTIMEZONE
TZID:Europe/Amsterdam
TZURL:http://tzurl.org/zoneinfo-outlook/Europe/Amsterdam
X-LIC-LOCATION:Europe/Amsterdam
BEGIN:DAYLIGHT
TZOFFSETFROM:+0100
TZOFFSETTO:+0200
TZNAME:CEST
DTSTART:19700329T020000
RRULE:FREQ=YEARLY;BYMONTH=3;BYDAY=-1SU
END:DAYLIGHT
BEGIN:STANDARD
TZOFFSETFROM:+0200
TZOFFSETTO:+0100
TZNAME:CET
DTSTART:19701025T030000
RRULE:FREQ=YEARLY;BYMONTH=10;BYDAY=-1SU
END:STANDARD
END:VTIMEZONE
BEGIN:VEVENT
DTSTAMP:20260424T054959Z
UID:69eae8675c92e
DTSTART;VALUE=DATE:20240826
DTEND;VALUE=DATE:20240826
SUMMARY:KWS Suikerbieten Demodag Schoondijke
URL;VALUE=URI:https://www.landbouwagenda.nl/evenement/7710-kws-suikerbieten-demodag-schoondijke/
DESCRIPTION:We heten u van harte welkom op onze demodag waar we uitleg geven over het groeiseizoen, onze rassen en de nieuwste ontwikkelingen. Zo bent u goed voorbereid voor o.a. de Vroegbestelling suikerbietenzaad, welke rond 26 augustus van start gaat!\n\nProgramma\n- 10.15 uur: Ontvangst met koffie en thee\n- 10.30 uur: Ontwikkelingen en actualiteiten suikerbieten 2024 (KWS / Cosun)\n- 11.00 uur: Bezoek KWS-demoveld\n- 12.00 uur: Broodjeslunch\n\nGelieve uw aanwezigheid te bevestigen in verband met de catering. Dit kunt u doen door een e-mail te sturen naar service.bnl@kws.com. Vermeld hierbij uw naam en het aantal personen. U kunt uw reservering ook telefonisch doorgeven via 076-503 3305.\n\nMet vriendelijke groeten,\n\nTeam KWS
LOCATION:Familie Cammaert Sasputseweg 11 4507 JX Schoondijke
END:VEVENT
END:VCALENDAR