BEGIN:VCALENDAR
VERSION:2.0
PRODID:-//www.landbouwagenda.nl//Agenda functie
X-WR-CALNAME:Symposium &#039;Sa kin&#039;t ek&#039;
CALSCALE:GREGORIAN
BEGIN:VTIMEZONE
TZID:Europe/Amsterdam
TZURL:http://tzurl.org/zoneinfo-outlook/Europe/Amsterdam
X-LIC-LOCATION:Europe/Amsterdam
BEGIN:DAYLIGHT
TZOFFSETFROM:+0100
TZOFFSETTO:+0200
TZNAME:CEST
DTSTART:19700329T020000
RRULE:FREQ=YEARLY;BYMONTH=3;BYDAY=-1SU
END:DAYLIGHT
BEGIN:STANDARD
TZOFFSETFROM:+0200
TZOFFSETTO:+0100
TZNAME:CET
DTSTART:19701025T030000
RRULE:FREQ=YEARLY;BYMONTH=10;BYDAY=-1SU
END:STANDARD
END:VTIMEZONE
BEGIN:VEVENT
DTSTAMP:20260423T080750Z
UID:69e9b7368fc14
DTSTART;VALUE=DATE:20241001
DTEND;VALUE=DATE:20241001
SUMMARY:Symposium &#039;Sa kin&#039;t ek&#039;
URL;VALUE=URI:https://www.landbouwagenda.nl/evenement/7736-symposium-sa-kint-ek/
DESCRIPTION:UITNODIGING Symposium 'Sa kin't ek'\nBoerentoekomst in een tijd van klimaatverandering\n\nOp dinsdag 1 oktober 2024 organiseert Vereniging Noardlike Fryske Walden een interactieve avond voor haar leden. Onderwerp: Hoe kunnen we als boeren anticiperen op klimaatverandering. Want, is die klimaatopgave inderdaad zo groot en kan een gebiedsofferte ons daarbij helpen? Hoe dan? En met welke concrete zaken? Zitten er voldoende mogelijkheden voor boeren in de gebiedsofferte? Op deze avond is er de mogelijkheid om met experts in gesprek te gaan. \n\nDit is de kans om als agrarische sector een positief geluid te laten horen en in oplossingen en mogelijkheden te denken. Vereniging Noardlike Fryske Walden nodigt je van harte uit om deze avond bij te wonen. Marjan Minnesma van Urgenda geeft een inleiding. Vervolgens geeft Albert van der Ploeg een voorzet met de gebiedsofferte als mogelijke oplossing. Daarna zal er ruim de tijd worden genomen om met een panel van experts in gesprek te gaan. Onder andere Marije Klever (voorziiter BoerenNatuur) en Wouter van Dieren (o.a. Club van Rome) zijn aanwezig. \n\nWe heten u van harte welkom
LOCATION:Partycentrum Old Dutch Noarder Stasjonsstrjitte 52-54 9271 CL De Westereen
END:VEVENT
END:VCALENDAR