BEGIN:VCALENDAR
VERSION:2.0
PRODID:-//www.landbouwagenda.nl//Agenda functie
X-WR-CALNAME:Cosun Jongerendag &quot;Samen kom je verder&quot;
CALSCALE:GREGORIAN
BEGIN:VTIMEZONE
TZID:Europe/Amsterdam
TZURL:http://tzurl.org/zoneinfo-outlook/Europe/Amsterdam
X-LIC-LOCATION:Europe/Amsterdam
BEGIN:DAYLIGHT
TZOFFSETFROM:+0100
TZOFFSETTO:+0200
TZNAME:CEST
DTSTART:19700329T020000
RRULE:FREQ=YEARLY;BYMONTH=3;BYDAY=-1SU
END:DAYLIGHT
BEGIN:STANDARD
TZOFFSETFROM:+0200
TZOFFSETTO:+0100
TZNAME:CET
DTSTART:19701025T030000
RRULE:FREQ=YEARLY;BYMONTH=10;BYDAY=-1SU
END:STANDARD
END:VTIMEZONE
BEGIN:VEVENT
DTSTAMP:20260425T165701Z
UID:69ecd63d94441
DTSTART;VALUE=DATE:20241115
DTEND;VALUE=DATE:20241115
SUMMARY:Cosun Jongerendag &quot;Samen kom je verder&quot;
URL;VALUE=URI:https://www.landbouwagenda.nl/evenement/7745-cosun-jongerendag-samen-kom-je-verder-15-november-2024/
DESCRIPTION:Een bijzondere bijeenkomst in DeFabrique in Maarssen (Utrecht). Een van de sprekers is Ray Klaassens, bekend van het TV programma Kamp van Koningsbrugge. We sluiten af met de leukste vrijdagmiddagborrel van het jaar om zo als jonge akkerbouwers en enthousiaste Cosun medewerkers te netwerken en ervaringen uit te wisselen. Een optreden van TikTok Tammo bekend van zijn hit "Dikke bak met biet'n!" mag zeker niet ontbreken. Informatie over het programma en het aanmelden is te vinden in de Website URL. Meld je uiterlijk 15 oktober aan voor deze onvergetelijke dag vol nieuwe inzichten en gezelligheid!
LOCATION:DeFabrique Evenementenlocatie Westkanaaldijk 7 3542 DA Utrecht
END:VEVENT
END:VCALENDAR