BEGIN:VCALENDAR
VERSION:2.0
PRODID:-//www.landbouwagenda.nl//Agenda functie
X-WR-CALNAME:GEDO Ruwvoerdagen
CALSCALE:GREGORIAN
BEGIN:VTIMEZONE
TZID:Europe/Amsterdam
TZURL:http://tzurl.org/zoneinfo-outlook/Europe/Amsterdam
X-LIC-LOCATION:Europe/Amsterdam
BEGIN:DAYLIGHT
TZOFFSETFROM:+0100
TZOFFSETTO:+0200
TZNAME:CEST
DTSTART:19700329T020000
RRULE:FREQ=YEARLY;BYMONTH=3;BYDAY=-1SU
END:DAYLIGHT
BEGIN:STANDARD
TZOFFSETFROM:+0200
TZOFFSETTO:+0100
TZNAME:CET
DTSTART:19701025T030000
RRULE:FREQ=YEARLY;BYMONTH=10;BYDAY=-1SU
END:STANDARD
END:VTIMEZONE
BEGIN:VEVENT
DTSTAMP:20260421T231635Z
UID:69e7e9339c203
DTSTART;VALUE=DATE:20240920
DTEND;VALUE=DATE:20240920
SUMMARY:GEDO Ruwvoerdagen
URL;VALUE=URI:https://www.landbouwagenda.nl/evenement/7829-gedo-ruwvoerdagen/
DESCRIPTION:Thema: Optimale ruwvoerproductie en bouwplan 2025\n\nHierbij nodigen we je uit voor de Ruwvoerdagen GEDO 2024.\nHet programma van deze dagen is van 13.00 tot 15.30 uur en er is de mogelijkheid om een spuitlicentiepunt\n(onderdeel teelt) te halen.\nDiverse sprekers zullen vanuit hen eigen vakgebied ingaan op het thema ‘Optimale ruwvoerproductie en\nbouwplan 2025’.\nOp de demovelden zijn de nieuwste genetica van maisrassen te zien, mogelijkheden voor akkerranden en\nbufferstroken, gewassen die interessant zijn voor de ECO-regelingen binnen het nieuwe GLB en meerdere\nmogelijkheden voor het telen van rustgewassen.\nDeelnemende bedrijven zijn o.a. Caussade Zaden, DSV zaden, Limagrain, Bosch Beton, GEDO Agrarisch Advies,\nHardi Veldspuiten, Triferto, ook zijn er diverse landbouwmachines te zien.\nGraag verwelkomen we je op een van deze bijeenkomsten.\n\nHet is verplicht om je vooraf in te schrijven (ook wanneer je niet deelneemt aan de licentieverlenging). Meld je op tijd aan via de website. In verband met het maximaal aantal toegestane deelnemers kan het zijn dat je wordt gevraagd om op een andere dag op een andere locatie te komen.\nDe ruwvoerdagen zijn gratis en de kosten voor de spuitlicentie verlenging bedragen € 45,-. Deze worden achteraf middels een factuur in rekening gebracht. Deelnemers aan de spuitlicentie-verlenging dienen 10 minuten voor aanvang aanwezig te zijn.\n\nVoor een hapje en een drankje wordt gezorgd.
LOCATION:Perceel langs de N374, t.o. Hoogeveenseweg 23 Hoogeveenseweg 23 9435 TC Bruntinge
END:VEVENT
END:VCALENDAR