BEGIN:VCALENDAR
VERSION:2.0
PRODID:-//www.landbouwagenda.nl//Agenda functie
X-WR-CALNAME:ABZ Jongerendag 2024
CALSCALE:GREGORIAN
BEGIN:VTIMEZONE
TZID:Europe/Amsterdam
TZURL:http://tzurl.org/zoneinfo-outlook/Europe/Amsterdam
X-LIC-LOCATION:Europe/Amsterdam
BEGIN:DAYLIGHT
TZOFFSETFROM:+0100
TZOFFSETTO:+0200
TZNAME:CEST
DTSTART:19700329T020000
RRULE:FREQ=YEARLY;BYMONTH=3;BYDAY=-1SU
END:DAYLIGHT
BEGIN:STANDARD
TZOFFSETFROM:+0200
TZOFFSETTO:+0100
TZNAME:CET
DTSTART:19701025T030000
RRULE:FREQ=YEARLY;BYMONTH=10;BYDAY=-1SU
END:STANDARD
END:VTIMEZONE
BEGIN:VEVENT
DTSTAMP:20260424T230526Z
UID:69ebdb1692ef2
DTSTART;VALUE=DATE:20241101
DTEND;VALUE=DATE:20241101
SUMMARY:ABZ Jongerendag 2024
URL;VALUE=URI:https://www.landbouwagenda.nl/evenement/7869-abz-jongerendag-2024/
DESCRIPTION:ABZ houdt de vaart erin!\n\nAlle jongeren in de agrarische sector zijn van harte uitgenodigd op de ABZ Jongerendag op vrijdag 1 november. Dit jaar nemen we een kijkje in de spectaculaire haven van Rotterdam!\n\nHier gaan we zien waar de grondstoffen van ABZ Diervoeding binnenkomen en verhandeld worden, hoe dit werkt en wat houdt nou precies onze inkoopafdeling elke dag bezig? We horen het allemaal op 1 november!\n\nWe stappen om 13.30 uur op de boot, tijdens de vaart zullen we uitleg krijgen over wat er te zien is in de haven. Daarnaast komen er twee sprekers die ons alles vertellen over de grondstoffenhandel en inkoop van grondstoffen bij ABZ. Uiteraard wordt er gezorgd voor een hapje en een drankje aan boord. Rond 19.00 uur staan we weer aan wal en gaan we huiswaarts.\n\nZoals jullie van ons gewend zijn, worden er vanuit alle windstreken bussen geregeld om jullie naar Rotterdam te vervoeren.\n\nZien we je dan? Vul het formulier op onze website in om je aan te melden!\nWe verheugen ons op jullie komst!\n\nMet vriendelijke groeten,\nHet ABZ Jongerenteam
LOCATION:Spido Rotterdam Willemsplein 85 3016 DR Rotterdam
END:VEVENT
END:VCALENDAR