BEGIN:VCALENDAR
VERSION:2.0
PRODID:-//www.landbouwagenda.nl//Agenda functie
X-WR-CALNAME:Open dagen Haye Bethlehem
CALSCALE:GREGORIAN
BEGIN:VTIMEZONE
TZID:Europe/Amsterdam
TZURL:http://tzurl.org/zoneinfo-outlook/Europe/Amsterdam
X-LIC-LOCATION:Europe/Amsterdam
BEGIN:DAYLIGHT
TZOFFSETFROM:+0100
TZOFFSETTO:+0200
TZNAME:CEST
DTSTART:19700329T020000
RRULE:FREQ=YEARLY;BYMONTH=3;BYDAY=-1SU
END:DAYLIGHT
BEGIN:STANDARD
TZOFFSETFROM:+0200
TZOFFSETTO:+0100
TZNAME:CET
DTSTART:19701025T030000
RRULE:FREQ=YEARLY;BYMONTH=10;BYDAY=-1SU
END:STANDARD
END:VTIMEZONE
BEGIN:VEVENT
DTSTAMP:20260425T123209Z
UID:69ec98290da51
DTSTART;VALUE=DATE:20241018
DTEND;VALUE=DATE:20241019
SUMMARY:Open dagen Haye Bethlehem
URL;VALUE=URI:https://www.landbouwagenda.nl/evenement/7883-open-dag-haye-bethlehem/
DESCRIPTION:Welkom op onze open dagen\n\nHaye Bethlehem is bekend van de winkel in Wolvega, en als leverancier van agrarische artikelen, diervoeders en strooisels in het noorden van het land.  \n\nVrijdag 18 oktober  - 10.00 - 22.00 uur\nZaterdag 19 oktober - 10.00-17.00 uur\n\nHaye Bethlehem neemt Simba Diervoeders over\nHet bedrijf Simba Diervoeders van Jaap Fikse uit Heerenveen wordt per 1 oktober overgenomen door Haye Bethlehem  uit Wolvega.  Simba Diervoeders staat bekend als professionele leverancier van voer en strooisel binnen de drafsport en  bij diverse dressuur- en springstallen.\n\nJaap Fikse was zelf ook actief in de drafsport maar na een val van de sulky en daaruit voortvloeiende gezondheidsproblemen heeft hij besloten om te stoppen met zijn bedrijf. Om de klanten dezelfde  service en kwaliteit te kunnen blijven bieden heeft hij contact gezocht met Haye Bethlehem\n\nHij gaat de nieuwe uitdaging graag aan. ‘Ons bedrijf kent ook nu al veel klanten en relaties binnen de paardensport en daarmee is Simba een passende aanvulling’\n\n\nKom gezellig een kijkje nemen in onze winkel onder het genot van een drankje.
LOCATION:Haye Bethlehem Grindweg 143 8471 EJ Wolvega
END:VEVENT
END:VCALENDAR