BEGIN:VCALENDAR
VERSION:2.0
PRODID:-//www.landbouwagenda.nl//Agenda functie
X-WR-CALNAME:Kennisbijeenkomst Carboncoop
CALSCALE:GREGORIAN
BEGIN:VTIMEZONE
TZID:Europe/Amsterdam
TZURL:http://tzurl.org/zoneinfo-outlook/Europe/Amsterdam
X-LIC-LOCATION:Europe/Amsterdam
BEGIN:DAYLIGHT
TZOFFSETFROM:+0100
TZOFFSETTO:+0200
TZNAME:CEST
DTSTART:19700329T020000
RRULE:FREQ=YEARLY;BYMONTH=3;BYDAY=-1SU
END:DAYLIGHT
BEGIN:STANDARD
TZOFFSETFROM:+0200
TZOFFSETTO:+0100
TZNAME:CET
DTSTART:19701025T030000
RRULE:FREQ=YEARLY;BYMONTH=10;BYDAY=-1SU
END:STANDARD
END:VTIMEZONE
BEGIN:VEVENT
DTSTAMP:20260423T021557Z
UID:69e964bdf3a2a
DTSTART;VALUE=DATE:20241023
DTEND;VALUE=DATE:20241023
SUMMARY:Kennisbijeenkomst Carboncoop
URL;VALUE=URI:https://www.landbouwagenda.nl/evenement/7890-kennisbijeenkomst-carboncoop/
DESCRIPTION:UITNODIGING  Jaarvergadering / kennisbijeenkomst Carboncoop\n\nBeste leden en geïnteresseerden,\n\nGraag willen wij u uitnodigen voor de jaarvergadering / kennisbijeenkomst op woensdag 23 oktober a.s. om 19.30 uur in het Fries Landbouw Museum. \n\nProgramma:\n1. Opening\n2. Toelichting jaarcijfers\n3. Lezing door René Jochems\nEen gezonde bodem is de basis voor een goede bedrijfsvoering. Organische stof / koolstof heeft daarbij een spilfunctie. De koolstof is in de kringloop het bouwwerk van het leven, de specie, het verbindt alles aan elkaar. Hoe houd je meer koolstof op je bedrijf en in de bodem die ook werkzaam is voor het bodemleven en een gezondere en beter productie geeft met minder input van nadelige producten. René Jochems van Groeibalans neemt u mee in de gezonde, levende bodem. \n4. Update over andere CO2-projecten\n5. Rondvraag\n6. Afsluiting en borrel\n\nWe hopen dat u aanwezig kunt zijn. \nGraag opgeven via de mail info@carboncoop.nl of whatsapp: 06-39839110. \nEen introducé is uiteraard ook van harte welkom!
LOCATION:Fries Landbouwmuseum Felling 6 8912 CG Leeuwarden
END:VEVENT
END:VCALENDAR