BEGIN:VCALENDAR
VERSION:2.0
PRODID:-//www.landbouwagenda.nl//Agenda functie
X-WR-CALNAME:Tijd om bij te praten!
CALSCALE:GREGORIAN
BEGIN:VTIMEZONE
TZID:Europe/Amsterdam
TZURL:http://tzurl.org/zoneinfo-outlook/Europe/Amsterdam
X-LIC-LOCATION:Europe/Amsterdam
BEGIN:DAYLIGHT
TZOFFSETFROM:+0100
TZOFFSETTO:+0200
TZNAME:CEST
DTSTART:19700329T020000
RRULE:FREQ=YEARLY;BYMONTH=3;BYDAY=-1SU
END:DAYLIGHT
BEGIN:STANDARD
TZOFFSETFROM:+0200
TZOFFSETTO:+0100
TZNAME:CET
DTSTART:19701025T030000
RRULE:FREQ=YEARLY;BYMONTH=10;BYDAY=-1SU
END:STANDARD
END:VTIMEZONE
BEGIN:VEVENT
DTSTAMP:20260425T142100Z
UID:69ecb1accebd1
DTSTART;VALUE=DATE:20241017
DTEND;VALUE=DATE:20241017
SUMMARY:Tijd om bij te praten!
URL;VALUE=URI:https://www.landbouwagenda.nl/evenement/7897-tijd-om-bij-te-praten/
DESCRIPTION:Op donderdagavond 17 oktober organiseert de DDB een bijeenkomst om u te informeren met betrekking tot een aantal belangrijke onderwerpen. \n\nDonderdag 17 oktober 2024 aanvang programma 20:00 uur\nBoerderij de Straat-Hof, Willem van der Veldenweg 57, 2451 BB, Leimuiden\n\nSprekers:\nAad Straathof, waterkwaliteit en waterschapslasten\nColinda van Rees, ‘mestgassen, een onzichtbare vijand’\nSieta van Keimpema, derogatie en mestbrief\nJan Aantjes, dierwaardige veehouderij 2040\n\nWe zien u graag op 17 oktober om 20:00 uur boerderij de Straat-Hof in Leimuiden!! Gezien het belang van de onderwerpen voor de hele melkveehouderijsector is deze avond niet alleen voorbehouden aan leden. U wordt dus van harte uitgenodigd uw collega’s mee te nemen naar deze avond of hen erop te attenderen!
LOCATION:Boerderij de Straat-Hof Willem van der Veldenweg 57 2451 BB Leijmuiden
END:VEVENT
END:VCALENDAR