BEGIN:VCALENDAR
VERSION:2.0
PRODID:-//www.landbouwagenda.nl//Agenda functie
X-WR-CALNAME:Terugkomdag woel- en zaaidemonstratie
CALSCALE:GREGORIAN
BEGIN:VTIMEZONE
TZID:Europe/Amsterdam
TZURL:http://tzurl.org/zoneinfo-outlook/Europe/Amsterdam
X-LIC-LOCATION:Europe/Amsterdam
BEGIN:DAYLIGHT
TZOFFSETFROM:+0100
TZOFFSETTO:+0200
TZNAME:CEST
DTSTART:19700329T020000
RRULE:FREQ=YEARLY;BYMONTH=3;BYDAY=-1SU
END:DAYLIGHT
BEGIN:STANDARD
TZOFFSETFROM:+0200
TZOFFSETTO:+0100
TZNAME:CET
DTSTART:19701025T030000
RRULE:FREQ=YEARLY;BYMONTH=10;BYDAY=-1SU
END:STANDARD
END:VTIMEZONE
BEGIN:VEVENT
DTSTAMP:20260422T133710Z
UID:69e8b2e634fd5
DTSTART;VALUE=DATE:20241113
DTEND;VALUE=DATE:20241113
SUMMARY:Terugkomdag woel- en zaaidemonstratie
URL;VALUE=URI:https://www.landbouwagenda.nl/evenement/7928-terugkomdag-woel-en-zaaidemonstratie/
DESCRIPTION:Terugkombijeenkomst op het veld n.a.v de georganiseerde woel- en zaaidemonstratie eind augustus 2024.\n\nBijeenkomst i.s.m. Christoffel den Herder en DAW Water, als onderdeel van een RegioDeal NIL-project. We gaan op het veld kijken:\n- Hoe staat het gezaaide gewas erbij?\n- Zijn er verschillen zichtbaar tussen de woel-/zaaitechnieken?\n- Hoe lijkt het zowel boven- als ondergronds?\n- Meer info volgt via onze website
LOCATION:SPNA proefboerderij Ebelsheerd Hoofdweg 26 9687 PL Nieuw Beerta
END:VEVENT
END:VCALENDAR