BEGIN:VCALENDAR
VERSION:2.0
PRODID:-//www.landbouwagenda.nl//Agenda functie
X-WR-CALNAME:Hoofdpunten biologische regelgeving voor tuin- en akkerbouw
CALSCALE:GREGORIAN
BEGIN:VTIMEZONE
TZID:Europe/Amsterdam
TZURL:http://tzurl.org/zoneinfo-outlook/Europe/Amsterdam
X-LIC-LOCATION:Europe/Amsterdam
BEGIN:DAYLIGHT
TZOFFSETFROM:+0100
TZOFFSETTO:+0200
TZNAME:CEST
DTSTART:19700329T020000
RRULE:FREQ=YEARLY;BYMONTH=3;BYDAY=-1SU
END:DAYLIGHT
BEGIN:STANDARD
TZOFFSETFROM:+0200
TZOFFSETTO:+0100
TZNAME:CET
DTSTART:19701025T030000
RRULE:FREQ=YEARLY;BYMONTH=10;BYDAY=-1SU
END:STANDARD
END:VTIMEZONE
BEGIN:VEVENT
DTSTAMP:20260421T120608Z
UID:69e74c1091579
DTSTART;VALUE=DATE:20241218
DTEND;VALUE=DATE:20241218
SUMMARY:Hoofdpunten biologische regelgeving voor tuin- en akkerbouw
URL;VALUE=URI:https://www.landbouwagenda.nl/evenement/7931-hoofdpunten-biologische-regelgeving-voor-tuin-en-akkerbouw/
DESCRIPTION:Heb je een bedrijf waar je fruit, groente, granen, bomen of bloemen teelt en vraag je je af of biologische landbouw iets voor je is? Of werk je bij een biologisch teeltbedrijf? Wil je meer weten over de eisen uit de biologische regelgeving voor bedrijven in de plantaardige sectoren? Dan is dit webinar interessant voor jou!\n\nTijdens dit webinar vertel ik je meer over de belangrijkste punten uit de biologische regelgeving voor landbouwbedrijven, en dan specifiek voor bedrijven in de plantaardige sector. Dit geeft je een idee van de belangrijkste eisen vanuit de biologische regelgeving, en hoe een bedrijf gecertificeerd kan worden.\n\nTijdens het webinar worden de volgende onderwerpen behandeld:\n\n- Regelgeving (EU & NL)\n- Certificering\n- Eisen voor teelt van gewassen\n- Administratie\n- Bedrijfsbeschrijving en risicobeheersplan\n- Eisen voor verwerkte producten
LOCATION:Online Online 1 1234AA Online
END:VEVENT
END:VCALENDAR