BEGIN:VCALENDAR
VERSION:2.0
PRODID:-//www.landbouwagenda.nl//Agenda functie
X-WR-CALNAME:Conferentie Verdienen met Carbon Farming
CALSCALE:GREGORIAN
BEGIN:VTIMEZONE
TZID:Europe/Amsterdam
TZURL:http://tzurl.org/zoneinfo-outlook/Europe/Amsterdam
X-LIC-LOCATION:Europe/Amsterdam
BEGIN:DAYLIGHT
TZOFFSETFROM:+0100
TZOFFSETTO:+0200
TZNAME:CEST
DTSTART:19700329T020000
RRULE:FREQ=YEARLY;BYMONTH=3;BYDAY=-1SU
END:DAYLIGHT
BEGIN:STANDARD
TZOFFSETFROM:+0200
TZOFFSETTO:+0100
TZNAME:CET
DTSTART:19701025T030000
RRULE:FREQ=YEARLY;BYMONTH=10;BYDAY=-1SU
END:STANDARD
END:VTIMEZONE
BEGIN:VEVENT
DTSTAMP:20260422T131254Z
UID:69e8ad3653b55
DTSTART;VALUE=DATE:20241203
DTEND;VALUE=DATE:20241203
SUMMARY:Conferentie Verdienen met Carbon Farming
URL;VALUE=URI:https://www.landbouwagenda.nl/evenement/7954-conferentie-verdienen-met-carbon-farming/
DESCRIPTION:Op dinsdag 3 december vindt de Conferentie Verdienen met Carbon Farming plaats. \n\nHet ontwikkelen van een verdienmodel voor Carbon Farming is essentieel om koolstofvastlegging tot een succes te maken en daarmee bij te dragen aan de klimaatdoelen voor 2050. Dat is precies waar BoerenNatuur Brabant West, ZLTO en Louis Bolk Instituut aan hebben gewerkt in het project Verdienen met Carbon Farming. \n\nAfgelopen jaar zijn vijf pilots gestart in Zuid-Nederland met boeren, marktpartijen en andere relevante stakeholders, waarbij we in de praktijk leren wat nodig is om tot succesvolle projecten te komen. Daarbij staat een reëel verdienmodel voor de boer centraal. De pilots zijn gericht op koolstofvastlegging in bodem, bomen én bouwmaterialen (biobased teelten).\n\nProgramma\n\n10.00 uur Inloop\n\n10.30 uur Plenair deel I \nWelkom door dagvoorzitter Michaël Wilde\nInleiding project door Marjon Krol, Projectleider Natuur, Klimaat en Energie bij ZLTO\nKey note speaker 1: Weerman Reinier van den Berg gaat in op oorzaak, gevolg en urgentie van klimaatverandering en op mogelijke oplossingen\nKey note speaker 2: Sophie Alders van Albert Heijn presenteert het klimaatprogramma van Albert Heijn en wat dit betekent voor de boer\nInterview met drie koolstofboeren: Paul den Dunnen over Agroforestry; Janneke Straver van der Schans over vastlegging in de bodem en Jan Versluis over vastlegging in biobased teelten.\n\n11.45 uur Plenair deel II - Paneldiscussie\nTijdens dit panelgesprek gaan we in op kansen en aandachtspunten voor koolstofvastlegging als verdienmodel vanuit verschillende invalshoeken: beleid, boer, keten en certificering. Dit panelgesprek is tegelijk een opwarmer voor de workshops in de middag.\n\n12.30 uur Lunch\n\nWorkshops\nEr zijn twee workshoprondes. Deze gaan over de vijf pilots in het project en inhoudelijke thema's die hieruit voortkomen. Per workshopronde kan je deelnemen aan één workshop.\n\nBij het aanmelden kan je je keuze aangeven. \n\n13.30 uur – 14.30 uur Workshopronde I\n\n14.45 uur – 15.45 uur Workshopronde II\n\n16.00 uur Plenaire afsluiting\n\n16.15 uur Borrel
LOCATION:Cultureel Centrum Jan van Besouw Thomas van Diessenstraat 1 5051 RJ Goirle
END:VEVENT
END:VCALENDAR