BEGIN:VCALENDAR
VERSION:2.0
PRODID:-//www.landbouwagenda.nl//Agenda functie
X-WR-CALNAME:Bodemdag 2024
CALSCALE:GREGORIAN
BEGIN:VTIMEZONE
TZID:Europe/Amsterdam
TZURL:http://tzurl.org/zoneinfo-outlook/Europe/Amsterdam
X-LIC-LOCATION:Europe/Amsterdam
BEGIN:DAYLIGHT
TZOFFSETFROM:+0100
TZOFFSETTO:+0200
TZNAME:CEST
DTSTART:19700329T020000
RRULE:FREQ=YEARLY;BYMONTH=3;BYDAY=-1SU
END:DAYLIGHT
BEGIN:STANDARD
TZOFFSETFROM:+0200
TZOFFSETTO:+0100
TZNAME:CET
DTSTART:19701025T030000
RRULE:FREQ=YEARLY;BYMONTH=10;BYDAY=-1SU
END:STANDARD
END:VTIMEZONE
BEGIN:VEVENT
DTSTAMP:20260421T152941Z
UID:69e77bc564b43
DTSTART;VALUE=DATE:20241113
DTEND;VALUE=DATE:20241113
SUMMARY:Bodemdag 2024
URL;VALUE=URI:https://www.landbouwagenda.nl/evenement/7973-bodemdag-2024/
DESCRIPTION:Op woensdag 13 november 2024 vindt de  jaarlijkse Bodemdag van Delphy, CZAV en Rusthoeve plaats op Proefboerderij Rusthoeve te Colijnsplaat. \n\nTijdens onze jaarlijkse Bodem en Waterdag willen wij graag handvaten bieden rondom stikstofreductie, met de benen in de Zeeuwse Klei en groenbemesters.\nUiteraard is er ook volop aandacht voor bodemkwaliteit, zoals profielverbetering en grondbewerking.\n\nAanmelden is verplicht. in verband met de organisatie
LOCATION:Proefboerderij Rusthoeve Noordlangeweg 42 4486 PR Colijnsplaat
END:VEVENT
END:VCALENDAR