BEGIN:VCALENDAR
VERSION:2.0
PRODID:-//www.landbouwagenda.nl//Agenda functie
X-WR-CALNAME:Kringvergadering Zeeland Royal Cosun
CALSCALE:GREGORIAN
BEGIN:VTIMEZONE
TZID:Europe/Amsterdam
TZURL:http://tzurl.org/zoneinfo-outlook/Europe/Amsterdam
X-LIC-LOCATION:Europe/Amsterdam
BEGIN:DAYLIGHT
TZOFFSETFROM:+0100
TZOFFSETTO:+0200
TZNAME:CEST
DTSTART:19700329T020000
RRULE:FREQ=YEARLY;BYMONTH=3;BYDAY=-1SU
END:DAYLIGHT
BEGIN:STANDARD
TZOFFSETFROM:+0200
TZOFFSETTO:+0100
TZNAME:CET
DTSTART:19701025T030000
RRULE:FREQ=YEARLY;BYMONTH=10;BYDAY=-1SU
END:STANDARD
END:VTIMEZONE
BEGIN:VEVENT
DTSTAMP:20260419T222529Z
UID:69e53a39ebd69
DTSTART;VALUE=DATE:20250218
DTEND;VALUE=DATE:20250218
SUMMARY:Kringvergadering Zeeland Royal Cosun
URL;VALUE=URI:https://www.landbouwagenda.nl/evenement/7976-kringvergadering-zeeland-afdeling-zeeuws-vlaanderen-18-februari-2025-19.30-uur-locatie-de-halle-in-axel/
DESCRIPTION:We nodigen u van harte uit voor de jaarlijkse kringvergadering. De kringvergaderingen  zijn er voor alle leden. Ook (jonge) bedrijfsopvolgers zijn van harte welkom! Noteert u de datum alvast in uw agenda?\n\nAfdeling: Zeeuws-Vlaanderen \nAanvang: 19.30 uur
LOCATION:De Halle Rooseveltlaan 1a 4571 HT Axel
END:VEVENT
END:VCALENDAR