BEGIN:VCALENDAR
VERSION:2.0
PRODID:-//www.landbouwagenda.nl//Agenda functie
X-WR-CALNAME:Kringvergadering ZO Nederland Royal Cosun
CALSCALE:GREGORIAN
BEGIN:VTIMEZONE
TZID:Europe/Amsterdam
TZURL:http://tzurl.org/zoneinfo-outlook/Europe/Amsterdam
X-LIC-LOCATION:Europe/Amsterdam
BEGIN:DAYLIGHT
TZOFFSETFROM:+0100
TZOFFSETTO:+0200
TZNAME:CEST
DTSTART:19700329T020000
RRULE:FREQ=YEARLY;BYMONTH=3;BYDAY=-1SU
END:DAYLIGHT
BEGIN:STANDARD
TZOFFSETFROM:+0200
TZOFFSETTO:+0100
TZNAME:CET
DTSTART:19701025T030000
RRULE:FREQ=YEARLY;BYMONTH=10;BYDAY=-1SU
END:STANDARD
END:VTIMEZONE
BEGIN:VEVENT
DTSTAMP:20260420T203638Z
UID:69e6723688e46
DTSTART;VALUE=DATE:20250218
DTEND;VALUE=DATE:20250218
SUMMARY:Kringvergadering ZO Nederland Royal Cosun
URL;VALUE=URI:https://www.landbouwagenda.nl/evenement/7977-kringvergadering-zo-nederland-afdeling-midden-limburg-de-peel-18-februari-2025-13.30-uur-locatie-baexheimerhof-b/
DESCRIPTION:We nodigen u van harte uit voor de jaarlijkse kringvergadering. De kringvergaderingen zijn er voor alle leden. Ook jonge bedrijfsopvolgers zijn van harte welkom!\nNoteert u de datum alvast in uw agenda?\n\nAfdeling: Midden-Limburg & De Peel \nAanvang: 13.30 uur
LOCATION:Baexheimerhof Kerkstraat 1a 6095 BD Baexem
END:VEVENT
END:VCALENDAR