BEGIN:VCALENDAR
VERSION:2.0
PRODID:-//www.landbouwagenda.nl//Agenda functie
X-WR-CALNAME:Kringvergadering Overijssel Royal Cosun
CALSCALE:GREGORIAN
BEGIN:VTIMEZONE
TZID:Europe/Amsterdam
TZURL:http://tzurl.org/zoneinfo-outlook/Europe/Amsterdam
X-LIC-LOCATION:Europe/Amsterdam
BEGIN:DAYLIGHT
TZOFFSETFROM:+0100
TZOFFSETTO:+0200
TZNAME:CEST
DTSTART:19700329T020000
RRULE:FREQ=YEARLY;BYMONTH=3;BYDAY=-1SU
END:DAYLIGHT
BEGIN:STANDARD
TZOFFSETFROM:+0200
TZOFFSETTO:+0100
TZNAME:CET
DTSTART:19701025T030000
RRULE:FREQ=YEARLY;BYMONTH=10;BYDAY=-1SU
END:STANDARD
END:VTIMEZONE
BEGIN:VEVENT
DTSTAMP:20260421T174047Z
UID:69e79a7f83d39
DTSTART;VALUE=DATE:20250217
DTEND;VALUE=DATE:20250217
SUMMARY:Kringvergadering Overijssel Royal Cosun
URL;VALUE=URI:https://www.landbouwagenda.nl/evenement/7982-kringvergadering-overijssel-afdeling-zuid-gelderland-17-februari-2025-19.30-uur-van-der-valk-arnhem/
DESCRIPTION:We nodigen u van harte uit voor de jaarlijkse kringvergadering. De kringvergaderingen zijn er voor alle Cosun leden. Ook (jonge) bedrijfsopvolgers zijn van harte welkom! \nNoteert u de datum alvast in uw agenda?\n\nAfdeling: Zuid-Gelderland\nAanvang: 19.30 uur
LOCATION:Van der Valk Arnhem Amsterdamseweg 505 6816 VK Arnhem
END:VEVENT
END:VCALENDAR