BEGIN:VCALENDAR
VERSION:2.0
PRODID:-//www.landbouwagenda.nl//Agenda functie
X-WR-CALNAME:Kringvergadering Zeeland Royal Cosun
CALSCALE:GREGORIAN
BEGIN:VTIMEZONE
TZID:Europe/Amsterdam
TZURL:http://tzurl.org/zoneinfo-outlook/Europe/Amsterdam
X-LIC-LOCATION:Europe/Amsterdam
BEGIN:DAYLIGHT
TZOFFSETFROM:+0100
TZOFFSETTO:+0200
TZNAME:CEST
DTSTART:19700329T020000
RRULE:FREQ=YEARLY;BYMONTH=3;BYDAY=-1SU
END:DAYLIGHT
BEGIN:STANDARD
TZOFFSETFROM:+0200
TZOFFSETTO:+0100
TZNAME:CET
DTSTART:19701025T030000
RRULE:FREQ=YEARLY;BYMONTH=10;BYDAY=-1SU
END:STANDARD
END:VTIMEZONE
BEGIN:VEVENT
DTSTAMP:20260420T114002Z
UID:69e5f472c381b
DTSTART;VALUE=DATE:20250305
DTEND;VALUE=DATE:20250305
SUMMARY:Kringvergadering Zeeland Royal Cosun
URL;VALUE=URI:https://www.landbouwagenda.nl/evenement/7998-kringvergadering-zeeland-afdeling-zeeland-noord-5-maart-2025-19.30-uur-locatie-restaurant-grevelingen-bruinisse/
DESCRIPTION:We nodigen u van harte uit voor de jaarlijkse kringvergadering. De kringvergaderingen zijn er voor alle leden. Ook (jonge) bedrijfsopvolgers zijn van harte welkom!\nNoteert u de datum alvast in uw agenda?\n\nAfdeling: Zeeland-Noord \nAanvang: 19.30 uur
LOCATION:Restaurant Grevelingen Parallelweg 1 4311 NE Bruinisse
END:VEVENT
END:VCALENDAR