BEGIN:VCALENDAR
VERSION:2.0
PRODID:-//www.landbouwagenda.nl//Agenda functie
X-WR-CALNAME:LTO Ledenavond: Vollegrondsgroente en Akkerbouw
CALSCALE:GREGORIAN
BEGIN:VTIMEZONE
TZID:Europe/Amsterdam
TZURL:http://tzurl.org/zoneinfo-outlook/Europe/Amsterdam
X-LIC-LOCATION:Europe/Amsterdam
BEGIN:DAYLIGHT
TZOFFSETFROM:+0100
TZOFFSETTO:+0200
TZNAME:CEST
DTSTART:19700329T020000
RRULE:FREQ=YEARLY;BYMONTH=3;BYDAY=-1SU
END:DAYLIGHT
BEGIN:STANDARD
TZOFFSETFROM:+0200
TZOFFSETTO:+0100
TZNAME:CET
DTSTART:19701025T030000
RRULE:FREQ=YEARLY;BYMONTH=10;BYDAY=-1SU
END:STANDARD
END:VTIMEZONE
BEGIN:VEVENT
DTSTAMP:20260423T201225Z
UID:69ea610952459
DTSTART;VALUE=DATE:20250212
DTEND;VALUE=DATE:20250212
SUMMARY:LTO Ledenavond: Vollegrondsgroente en Akkerbouw
URL;VALUE=URI:https://www.landbouwagenda.nl/evenement/8004-lto-ledenavond-vollegrondsgroente-en-akkerbouw/
DESCRIPTION:Aankomende winter organiseert de LTO vakgroep Akkerbouw & Vollegrondsgroente ledenbijeenkomsten.  Deze bijeenkomst zal met name gericht zijn voor de leden uit de Vollegrondsgroentesector. We praten u bij over de ontwikkelingen rondom het nitraatbeleid, arbeid en gewasbeschermingsmiddelenbeleid. Wij gaan graag met u het gesprek aan over waar LTO de komende tijd op moet gaan inzetten.
LOCATION:Restaurant &amp; Partycentrum Remise Grote Straat 267 5151 BM Drunen
END:VEVENT
END:VCALENDAR