BEGIN:VCALENDAR
VERSION:2.0
PRODID:-//www.landbouwagenda.nl//Agenda functie
X-WR-CALNAME:Flowerbulb Business Days 2025
CALSCALE:GREGORIAN
BEGIN:VTIMEZONE
TZID:Europe/Amsterdam
TZURL:http://tzurl.org/zoneinfo-outlook/Europe/Amsterdam
X-LIC-LOCATION:Europe/Amsterdam
BEGIN:DAYLIGHT
TZOFFSETFROM:+0100
TZOFFSETTO:+0200
TZNAME:CEST
DTSTART:19700329T020000
RRULE:FREQ=YEARLY;BYMONTH=3;BYDAY=-1SU
END:DAYLIGHT
BEGIN:STANDARD
TZOFFSETFROM:+0200
TZOFFSETTO:+0100
TZNAME:CET
DTSTART:19701025T030000
RRULE:FREQ=YEARLY;BYMONTH=10;BYDAY=-1SU
END:STANDARD
END:VTIMEZONE
BEGIN:VEVENT
DTSTAMP:20260421T162717Z
UID:69e789456f337
DTSTART;VALUE=DATE:20250226
DTEND;VALUE=DATE:20250228
SUMMARY:Flowerbulb Business Days 2025
URL;VALUE=URI:https://www.landbouwagenda.nl/evenement/8088-flowerbulb-business-days-2025/
DESCRIPTION:Van 26 tot en met 28 februari 2025 vindt de tweede editie van de Flowerbulb Business Days plaats in de kop van Noord-Holland. Dit evenement biedt je de gelegenheid om kennis te maken met het brede assortiment bloembollen dat de regio te bieden heeft. Bijna dertig kwekers openen hun deuren op tien locaties, waar ze laten zien welke bloembollen ze telen en verhandelen.\n\nEen sterke sector heeft een sterk netwerk nodig. Het verbreden en versterken van de banden tussen de huidige en toekomstige generatie ondernemers; dat is de doelstelling van het Flowerbulb Business Event. Of u nu bollenteler, -broeier, bollenexporteur of toeleverancier bent, we nodigen u graag uit om ook aan te sluiten bij dit unieke netwerkevent.\n\nVoor de allereerste keer heeft het Flowerbulb Business Event plaats gevonden op woensdag 28 februari 2024 bij Teeuwen en Zonen BV. Onder leiding van presentatrice en schrijfster van het boek ‘Blondjes beleggen beter’ Janneke Willemse was het een inspirerende, informatieve en gezellige avond. Dit wilt u volgend jaar dus ook niet missen!
LOCATION:10 locaties in de Kop van Noord-Holland Meerweg 36 1764 KE Breezand
END:VEVENT
END:VCALENDAR