BEGIN:VCALENDAR
VERSION:2.0
PRODID:-//www.landbouwagenda.nl//Agenda functie
X-WR-CALNAME:Akkerbouwavond Van Iperen Groningen
CALSCALE:GREGORIAN
BEGIN:VTIMEZONE
TZID:Europe/Amsterdam
TZURL:http://tzurl.org/zoneinfo-outlook/Europe/Amsterdam
X-LIC-LOCATION:Europe/Amsterdam
BEGIN:DAYLIGHT
TZOFFSETFROM:+0100
TZOFFSETTO:+0200
TZNAME:CEST
DTSTART:19700329T020000
RRULE:FREQ=YEARLY;BYMONTH=3;BYDAY=-1SU
END:DAYLIGHT
BEGIN:STANDARD
TZOFFSETFROM:+0200
TZOFFSETTO:+0100
TZNAME:CET
DTSTART:19701025T030000
RRULE:FREQ=YEARLY;BYMONTH=10;BYDAY=-1SU
END:STANDARD
END:VTIMEZONE
BEGIN:VEVENT
DTSTAMP:20260424T131714Z
UID:69eb513a6e7c5
DTSTART;VALUE=DATE:20250130
DTEND;VALUE=DATE:20250130
SUMMARY:Akkerbouwavond Van Iperen Groningen
URL;VALUE=URI:https://www.landbouwagenda.nl/evenement/8100-akkerbouwavond-groningen/
DESCRIPTION:Van harte welkom op onze Akkerbouwavond in Groningen!
LOCATION:Hotel het Gemeentehuis Hoofdstraat Oost 16 9981 AH Uithuizen
END:VEVENT
END:VCALENDAR