BEGIN:VCALENDAR
VERSION:2.0
PRODID:-//www.landbouwagenda.nl//Agenda functie
X-WR-CALNAME:Landelijk seminar Gezonde Kalverketen
CALSCALE:GREGORIAN
BEGIN:VTIMEZONE
TZID:Europe/Amsterdam
TZURL:http://tzurl.org/zoneinfo-outlook/Europe/Amsterdam
X-LIC-LOCATION:Europe/Amsterdam
BEGIN:DAYLIGHT
TZOFFSETFROM:+0100
TZOFFSETTO:+0200
TZNAME:CEST
DTSTART:19700329T020000
RRULE:FREQ=YEARLY;BYMONTH=3;BYDAY=-1SU
END:DAYLIGHT
BEGIN:STANDARD
TZOFFSETFROM:+0200
TZOFFSETTO:+0100
TZNAME:CET
DTSTART:19701025T030000
RRULE:FREQ=YEARLY;BYMONTH=10;BYDAY=-1SU
END:STANDARD
END:VTIMEZONE
BEGIN:VEVENT
DTSTAMP:20260424T013054Z
UID:69eaabae8178e
DTSTART;VALUE=DATE:20250224
DTEND;VALUE=DATE:20250224
SUMMARY:Landelijk seminar Gezonde Kalverketen
URL;VALUE=URI:https://www.landbouwagenda.nl/evenement/8272-landelijk-seminar-gezonde-kalverketen/
DESCRIPTION:24 februari a.s.: Landelijk seminar Gezonde Kalverketen  \nStichting I-VEE organiseert samen met De Groene Munt het seminar Gezonde Kalverketen. Eerlijke producten maken, gebaseerd op duurzaamheid en dierenwelzijn in alle aspecten van de productieketen. Met deze visie zijn Zuivelbedrijf Den Eelder, De Walhoeve en Boerschappen een samenwerking aangegaan voor het verwaarden van jong rundvlees uit de zuivelketen. Gesteund door de subsidieregeling ‘Samenwerken aan een gezonde kalverketen’ hebben ze een keten ontwikkeld waarmee ze de transportkilometers minimaliseren, er geen contact is met dieren van andere bedrijven en de dieren maximaal gezond blijven en veel welzijn ervaren. Vanaf 2022 hebben ze onderzocht hoe deze alternatieve kalverketen rendabel gerealiseerd kan worden. De resultaten voor dierwelzijn, diergezondheid, lage emissies en de stand van zaken van dit project zullen worden gedeeld op een landelijk seminar ‘Jong rundvlees als sleutel voor een gezonde kalverketen, natuurlijk lokaal!’. Deskundigen van buiten en deelnemers aan het project praten u bij. Er zal ook gelegenheid zijn voor discussie.\nDit seminar wordt gehouden op maandag 24 februari 2025 van 13.00-16.00 uur. Locatie: Fort bij Vechten, Bunnik. Aanmelden kan tot uiterlijk 17 februari 2025  per mail naar office@degroenemunt.nl of bel naar  +31 85 301 92 75.
LOCATION:Fort bij Vechten Achterdijk 12 3981 HB Bunnik
END:VEVENT
END:VCALENDAR