BEGIN:VCALENDAR
VERSION:2.0
PRODID:-//www.landbouwagenda.nl//Agenda functie
X-WR-CALNAME:Districtsbijeenkomst BLHB, voor leden en niet-leden
CALSCALE:GREGORIAN
BEGIN:VTIMEZONE
TZID:Europe/Amsterdam
TZURL:http://tzurl.org/zoneinfo-outlook/Europe/Amsterdam
X-LIC-LOCATION:Europe/Amsterdam
BEGIN:DAYLIGHT
TZOFFSETFROM:+0100
TZOFFSETTO:+0200
TZNAME:CEST
DTSTART:19700329T020000
RRULE:FREQ=YEARLY;BYMONTH=3;BYDAY=-1SU
END:DAYLIGHT
BEGIN:STANDARD
TZOFFSETFROM:+0200
TZOFFSETTO:+0100
TZNAME:CET
DTSTART:19701025T030000
RRULE:FREQ=YEARLY;BYMONTH=10;BYDAY=-1SU
END:STANDARD
END:VTIMEZONE
BEGIN:VEVENT
DTSTAMP:20260422T003404Z
UID:69e7fb5cd4856
DTSTART;VALUE=DATE:20250313
DTEND;VALUE=DATE:20250313
SUMMARY:Districtsbijeenkomst BLHB, voor leden en niet-leden
URL;VALUE=URI:https://www.landbouwagenda.nl/evenement/8360-districtsbijeenkomst-blhb-voor-leden-en-niet-leden/
DESCRIPTION:Het bestuur van de BLHB district Brabant/Limburg nodigt u van harte uit tot het bijwonen van de bijeenkomst op donderdag 13 maart 2025 om 14.00 uur in Bladel.\n\n\nBIJEENKOMST DISTRICT BRABANT/LIMBURG 				\nDatum: Donderdag 13 maart 2025\nTijd: aanvang 14.00 uur\nPlaats: Recreatiepark De Achterste Hoef, Troprijt 10, 5531 NA  Bladel \n\nPROGRAMMA\n•	Pachtactualiteiten zoals stand van zaken rondom voorstellen pachtregelgeving, regionormen (NV-gebieden en hoogte, representativiteit Bedrijvennet, duurzaamheid en pacht, etc.);\n•	De economie van de pacht.\n\nLeden en belangstellenden zijn van harte welkom.\n\n\nDe BLHB (Bond van Landpachters en Eigen-Grondgebruikers in Nederland) stelt zich als doel het behartigen van de belangen van pachters, erfpachters en eigen-grondgebruikers in Nederland. Daarbij staat de grondgebonden landbouw centraal. De BLHB biedt haar leden specifieke deskundigheid op het gebied van (erf)pacht en grondgebruik. Daarnaast levert de BLHB een bijdrage aan het maatschappelijk debat over de pachtwetgeving en wendt de BLHB haar invloed aan in de politieke discussie over pacht. De BLHB geeft maandelijks het blad “De Landpachter” uit met standpunten, actualiteiten, achtergrondinformatie en advisering op het gebied van pacht, erfpacht en grondgebruik.
LOCATION:Recreatiepark De Achterste Hoef in Bladel Troprijt 10 5531 NA Bladel (Noord-Brabant)
END:VEVENT
END:VCALENDAR