BEGIN:VCALENDAR
VERSION:2.0
PRODID:-//www.landbouwagenda.nl//Agenda functie
X-WR-CALNAME:Agrifirm - Zomerbijeenkomst
CALSCALE:GREGORIAN
BEGIN:VTIMEZONE
TZID:Europe/Amsterdam
TZURL:http://tzurl.org/zoneinfo-outlook/Europe/Amsterdam
X-LIC-LOCATION:Europe/Amsterdam
BEGIN:DAYLIGHT
TZOFFSETFROM:+0100
TZOFFSETTO:+0200
TZNAME:CEST
DTSTART:19700329T020000
RRULE:FREQ=YEARLY;BYMONTH=3;BYDAY=-1SU
END:DAYLIGHT
BEGIN:STANDARD
TZOFFSETFROM:+0200
TZOFFSETTO:+0100
TZNAME:CET
DTSTART:19701025T030000
RRULE:FREQ=YEARLY;BYMONTH=10;BYDAY=-1SU
END:STANDARD
END:VTIMEZONE
BEGIN:VEVENT
DTSTAMP:20260422T111448Z
UID:69e89188c0bf1
DTSTART;VALUE=DATE:20250610
DTEND;VALUE=DATE:20250610
SUMMARY:Agrifirm - Zomerbijeenkomst
URL;VALUE=URI:https://www.landbouwagenda.nl/evenement/8440-agrifirm-zomerbijeenkomst/
DESCRIPTION:Uitnodiging volgt...
LOCATION:K. Breebaart Groetpolderweg 13 1732 NN Lutjewinkel
END:VEVENT
END:VCALENDAR