BEGIN:VCALENDAR
VERSION:2.0
PRODID:-//www.landbouwagenda.nl//Agenda functie
X-WR-CALNAME:Fiets de boer op Hengelo Gld
CALSCALE:GREGORIAN
BEGIN:VTIMEZONE
TZID:Europe/Amsterdam
TZURL:http://tzurl.org/zoneinfo-outlook/Europe/Amsterdam
X-LIC-LOCATION:Europe/Amsterdam
BEGIN:DAYLIGHT
TZOFFSETFROM:+0100
TZOFFSETTO:+0200
TZNAME:CEST
DTSTART:19700329T020000
RRULE:FREQ=YEARLY;BYMONTH=3;BYDAY=-1SU
END:DAYLIGHT
BEGIN:STANDARD
TZOFFSETFROM:+0200
TZOFFSETTO:+0100
TZNAME:CET
DTSTART:19701025T030000
RRULE:FREQ=YEARLY;BYMONTH=10;BYDAY=-1SU
END:STANDARD
END:VTIMEZONE
BEGIN:VEVENT
DTSTAMP:20260425T175755Z
UID:69ece4830566b
DTSTART;VALUE=DATE:20250719
DTEND;VALUE=DATE:20250719
SUMMARY:Fiets de boer op Hengelo Gld
URL;VALUE=URI:https://www.landbouwagenda.nl/evenement/8532-fiets-de-boer-op-hengelo-gld-19-juli-2025/
DESCRIPTION:Lijkt het jou leuk om een mooie “Fiets de Boer op” fietstocht te maken en ondertussen bedrijven en bezienswaardigheden te bezoeken, dan is onze fietstocht echt een aanrader. \n\nVia een mooie route van 35 km over verharde wegen en zandwegen gaan we dit jaar vanuit Hengelo GLD richting Halle en Zelhem. Voor wie liever niet geen zandwegen fietst is er waar nodig een alternatieve route. \n\nOnderweg neem je een kijkje bij de brandweer en een rijksmonument. Bij de brandweer geniet je in onze FDBO-tent van ‘n kopje koffie/thee met cake. Voor de kleintjes is er ranja. \n\nTijdens de middagstop “kun ie ‘t d’r effe van nemmn” op een terras met een aangepast menu voor de fietsers. Daarna kom je bij een melkveebedrijf met verkoop van eigen producten, een kerk en een bloemenboerderij met thee/koffietuin. Bij de kerk staat de ijscokar.
LOCATION:Zwembad het Elderink Elderinkweg 1 7255 AA Hengelo Gld
END:VEVENT
END:VCALENDAR