BEGIN:VCALENDAR
VERSION:2.0
PRODID:-//www.landbouwagenda.nl//Agenda functie
X-WR-CALNAME:Bodemweerbaarheid, waar staan we nu?
CALSCALE:GREGORIAN
BEGIN:VTIMEZONE
TZID:Europe/Amsterdam
TZURL:http://tzurl.org/zoneinfo-outlook/Europe/Amsterdam
X-LIC-LOCATION:Europe/Amsterdam
BEGIN:DAYLIGHT
TZOFFSETFROM:+0100
TZOFFSETTO:+0200
TZNAME:CEST
DTSTART:19700329T020000
RRULE:FREQ=YEARLY;BYMONTH=3;BYDAY=-1SU
END:DAYLIGHT
BEGIN:STANDARD
TZOFFSETFROM:+0200
TZOFFSETTO:+0100
TZNAME:CET
DTSTART:19701025T030000
RRULE:FREQ=YEARLY;BYMONTH=10;BYDAY=-1SU
END:STANDARD
END:VTIMEZONE
BEGIN:VEVENT
DTSTAMP:20260419T174228Z
UID:69e4f7e4f3de1
DTSTART;VALUE=DATE:20260528
DTEND;VALUE=DATE:20260528
SUMMARY:Bodemweerbaarheid, waar staan we nu?
URL;VALUE=URI:https://www.landbouwagenda.nl/evenement/9425-bodemweerbaarheid-waar-staan-we-nu/
DESCRIPTION:Er komt steeds meer kennis uit wetenschappelijk en praktijkonderzoek beschikbaar en we beginnen iets meer te snappen van de systemen achter bodemweerbaarheid. Maar duidelijk grip krijgen op de bodemweerbaarheid van een specifiek perceel blijft lastig; soms werkt iets goed en in de volgende situatie helemaal niet. \n\nExperts op het gebied van bodemweerbaarheid uit onderzoek en praktijk gaan deze middag in op de volgende vragen: Wat is bodemweerbaarheid eigenlijk en wat is de rol ervan in plantgezondheid? Welke plek neemt bodemweerbaarheid in in het totale systeem? Hoe en wat bepaalt of een perceel een goede ziektewering heeft? En kun je claimen of een middel zorgt voor een betere bodemweerbaarheid en plantgezondheid? Wanneer chemische middelen wegvallen is bodemweerbaarheid dan (een deel van) de oplossing voor gewasbescherming? En aan welke knoppen kan een teler draaien om de bodemweerbaarheid op zijn percelen te verhogen? Kortom, wat hebben we momenteel concreet in handen?
LOCATION:Hotel Wander Lawickse Allee 9 6701 AN Wageningen
END:VEVENT
END:VCALENDAR