BEGIN:VCALENDAR
VERSION:2.0
PRODID:-//www.landbouwagenda.nl//Agenda functie
X-WR-CALNAME:Masterclass Premixen: stof tot nadenken! (Legpluimveehouderij)
CALSCALE:GREGORIAN
BEGIN:VTIMEZONE
TZID:Europe/Amsterdam
TZURL:http://tzurl.org/zoneinfo-outlook/Europe/Amsterdam
X-LIC-LOCATION:Europe/Amsterdam
BEGIN:DAYLIGHT
TZOFFSETFROM:+0100
TZOFFSETTO:+0200
TZNAME:CEST
DTSTART:19700329T020000
RRULE:FREQ=YEARLY;BYMONTH=3;BYDAY=-1SU
END:DAYLIGHT
BEGIN:STANDARD
TZOFFSETFROM:+0200
TZOFFSETTO:+0100
TZNAME:CET
DTSTART:19701025T030000
RRULE:FREQ=YEARLY;BYMONTH=10;BYDAY=-1SU
END:STANDARD
END:VTIMEZONE
BEGIN:VEVENT
DTSTAMP:20260424T063817Z
UID:69eaf3b9c214c
DTSTART;VALUE=DATE:20260521
DTEND;VALUE=DATE:20260521
SUMMARY:Masterclass Premixen: stof tot nadenken! (Legpluimveehouderij)
URL;VALUE=URI:https://www.landbouwagenda.nl/evenement/9484-masterclass-premixen-stof-tot-nadenken-legpluimveehouderij/
DESCRIPTION:Op 21 mei 2026 wordt de Masterclass Premixen: stof tot nadenken! georganiseerd. Het zal een interactieve & inspirerende dag worden speciaal voor adviseurs, voorlichters, (beginnende) dierenartsen en controleurs in de legpluimveehouderij.\n\nGezonde en vitale hennen hebben nauwkeurige hoeveelheden aminozuren en andere voederadditieven nodig. Premixen voorzien het voer van belangrijke vitaminen en mineralen. Maar wat zijn nu precies premixen, wat zit erin en wat mag je van premixen verwachten?\n\nMet deze Masterclass leg je een stevige vaktechnische basis op het gebied van premixen, waardoor je een betere gesprekspartner voor de pluimveehouder bent. Daarnaast geeft deze Masterclass je de mogelijkheid om je eigen ideeën en ervaringen met premixen te delen met en te toetsen bij sectorgenoten en Koen Uitdehaag (Trouw Nutrition).\n\nKoen Uitdehaag, Technical Manager Poultry Benelux bij Trouw Nutrition is de spreker tijdens deze Masterclass.\n\nDatum: Donderdag 21 mei 2026\nTijd: 10.00 – 16.00 uur\nLocatie: Molen de Zwaluw, Batterijenweg 19c, Kesteren\n\nEr kunnen maximaal 12 deelnemers aan deze Masterclass deelnemen, wil je verzekerd zijn van een plek, geef je dan snel op!\n\nKosten voor deelname bedragen voor leden € 495 (excl. BTW) en voor niet-leden € 549 (excl. BTW).\n\nMocht u inhoudelijke vragen over de Masterclass hebben, dan kunt u contact opnemen met Dineke Rietveld via info@dinekerietveld.nl of 06-21199893.
LOCATION:Molen de Zwaluw Batterijenweg 19c 4041 DA Kesteren
END:VEVENT
END:VCALENDAR