BEGIN:VCALENDAR
VERSION:2.0
PRODID:-//www.landbouwagenda.nl//Agenda functie
X-WR-CALNAME:Proef de dag in de regio Voorne Putten | Van Iperen
CALSCALE:GREGORIAN
BEGIN:VTIMEZONE
TZID:Europe/Amsterdam
TZURL:http://tzurl.org/zoneinfo-outlook/Europe/Amsterdam
X-LIC-LOCATION:Europe/Amsterdam
BEGIN:DAYLIGHT
TZOFFSETFROM:+0100
TZOFFSETTO:+0200
TZNAME:CEST
DTSTART:19700329T020000
RRULE:FREQ=YEARLY;BYMONTH=3;BYDAY=-1SU
END:DAYLIGHT
BEGIN:STANDARD
TZOFFSETFROM:+0200
TZOFFSETTO:+0100
TZNAME:CET
DTSTART:19701025T030000
RRULE:FREQ=YEARLY;BYMONTH=10;BYDAY=-1SU
END:STANDARD
END:VTIMEZONE
BEGIN:VEVENT
DTSTAMP:20260421T025603Z
UID:69e6cb2352b35
DTSTART;VALUE=DATE:20260619
DTEND;VALUE=DATE:20260619
SUMMARY:Proef de dag in de regio Voorne Putten | Van Iperen
URL;VALUE=URI:https://www.landbouwagenda.nl/evenement/9557-proef-de-dag-in-de-regio-voorne-putten-van-iperen/
DESCRIPTION:Welkom bij Proef de dag in de regio!\nProef de dag vindt plaats in de maand juni/begin juli op verschillende data en locaties.\nTijdens deze dagen staat veiligheid en techniek centraal.\n13.30 uur: inloop\n14.00 uur: start rondgang\n16.30 uur: start eten
LOCATION:Van der Poel Loonbedrijf &amp; Akkerbouw Achterdijk 2 3216 LA Abbenbroek
END:VEVENT
END:VCALENDAR