BEGIN:VCALENDAR
VERSION:2.0
PRODID:-//www.landbouwagenda.nl//Agenda functie
X-WR-CALNAME:Bronckhorster Farm &amp; Food Festival
CALSCALE:GREGORIAN
BEGIN:VTIMEZONE
TZID:Europe/Amsterdam
TZURL:http://tzurl.org/zoneinfo-outlook/Europe/Amsterdam
X-LIC-LOCATION:Europe/Amsterdam
BEGIN:DAYLIGHT
TZOFFSETFROM:+0100
TZOFFSETTO:+0200
TZNAME:CEST
DTSTART:19700329T020000
RRULE:FREQ=YEARLY;BYMONTH=3;BYDAY=-1SU
END:DAYLIGHT
BEGIN:STANDARD
TZOFFSETFROM:+0200
TZOFFSETTO:+0100
TZNAME:CET
DTSTART:19701025T030000
RRULE:FREQ=YEARLY;BYMONTH=10;BYDAY=-1SU
END:STANDARD
END:VTIMEZONE
BEGIN:VEVENT
DTSTAMP:20260422T124058Z
UID:69e8a5bac3ea8
DTSTART;VALUE=DATE:20260514
DTEND;VALUE=DATE:20260516
SUMMARY:Bronckhorster Farm &amp; Food Festival
URL;VALUE=URI:https://www.landbouwagenda.nl/evenement/9576-bronckhorster-farm-food-festival/
DESCRIPTION:Het Bronckhorster Farm Festival 2026: dé plek om te proeven, beleven en genieten!\n\nOp donderdag 14 mei (Hemelvaartsdag) en zaterdag 16 mei veranderen de weilanden aan de Everhardinkweg in Zelhem in een waar festivalterrein met een bruisende mix van muziek, food, workshops en Achterhoekse gezelligheid.\n\nDo 14 Mei |  13:00 - 01:00 uur (Hemelvaartsdag)\nZa 16 Mei  | 13:00 - 01:00 uur \n\nEen ode aan eerlijk eten \nHet festival vindt plaats op het erf van Bronckhorster Beef, de boerderij waar Romy en Henry hun Wagyu- en Black Angus-runderen houden. Hun liefde voor dier, natuur en kwaliteit proef je terug in het vlees dat tijdens het festival te koop en te proeven is. Maar niet alleen hun vlees: ook lokale groenten, fruit en granen worden verwerkt tot heerlijke gerechten, verkrijgbaar bij de gezellige foodtentjes op het festival. Het is puur genieten — met gewoon goed eten.\n\nKoop je tickets voor het Bronckhorster Farm & Food Festival en beleef een unieke dag op de boerderij. Proef lokaal eten van topniveau – van perfect bereide wagyu tot verrassende fermentaties – bereid door bekende chefs en pitmasters. Ontdek streekproducten in de botanische proefloods, ervaar de farm experience met o.a. paardrijden, en laat de kids los in de kidsparken. Met meerdere muziekstages, een dik feest met Qmusic en de Cabrioband wordt dit een dag om niet te missen!\n\nPraktische informatie Alles over het festival – van plattegrond tot volledige line-up – is te vinden op www.bronckhorsterfarmfestival.nl. Tickets zijn via deze website verkrijgbaar:\n• Entree volwassenen: €15\n• Kinderen (4 t/m 11 jaar): €5
LOCATION:Festivalterrein Everhadinkweg Everhardinkweg 2 7021 MP Zelhem
END:VEVENT
END:VCALENDAR