BEGIN:VCALENDAR
VERSION:2.0
PRODID:-//www.landbouwagenda.nl//Agenda functie
X-WR-CALNAME:Nationale Roodbont Show 2026
CALSCALE:GREGORIAN
BEGIN:VTIMEZONE
TZID:Europe/Amsterdam
TZURL:http://tzurl.org/zoneinfo-outlook/Europe/Amsterdam
X-LIC-LOCATION:Europe/Amsterdam
BEGIN:DAYLIGHT
TZOFFSETFROM:+0100
TZOFFSETTO:+0200
TZNAME:CEST
DTSTART:19700329T020000
RRULE:FREQ=YEARLY;BYMONTH=3;BYDAY=-1SU
END:DAYLIGHT
BEGIN:STANDARD
TZOFFSETFROM:+0200
TZOFFSETTO:+0100
TZNAME:CET
DTSTART:19701025T030000
RRULE:FREQ=YEARLY;BYMONTH=10;BYDAY=-1SU
END:STANDARD
END:VTIMEZONE
BEGIN:VEVENT
DTSTAMP:20260422T154409Z
UID:69e8d0a9c5abf
DTSTART;VALUE=DATE:20260606
DTEND;VALUE=DATE:20260606
SUMMARY:Nationale Roodbont Show 2026
URL;VALUE=URI:https://www.landbouwagenda.nl/evenement/9577-nationale-roodbont-show-2026/
DESCRIPTION:Op zaterdag 6 juni vindt de tweede editie plaats van de Nationale Roodbont Show. Deze nationale show voor roodbonte koeien kent een record aantal inzenders, de primeur van twee dochtergroepen presentaties én een gezellige vakbeurs.
LOCATION:Manege Bartels, Mariënheem Boetelerveldweg 7 8106 RC Mariënheem
END:VEVENT
END:VCALENDAR